BEGIN:VCALENDAR
VERSION:2.0
PRODID:-//Tukios.com/
BEGIN:VEVENT
UID:6cb77ee0-266d-4afa-87a1-34bfa3060924@www.hummelfuneralhomes.com
DTSTAMP:20260423T190726Z
DTSTART:20260503T170000Z
DTEND:20260503T190000Z
SUMMARY:Calling Hours
DESCRIPTION:
URL:https://www.hummelfuneralhomes.com/obituaries/melany-hernandez-osorio
LOCATION:Hummel Funeral Home- Akron 500 E. Exchange St.  Akron OH 44304
GEO:41.0709254;-81.5057618
END:VEVENT
END:VCALENDAR