BEGIN:VCALENDAR
VERSION:2.0
PRODID:-//Tukios.com/
BEGIN:VEVENT
UID:318cb6b5-0b95-48fc-a6ac-e7bb1c5e7670@www.hummelfuneralhomes.com
DTSTAMP:20260423T190126Z
DTSTART:20260516T140000Z
DTEND:20260516T150000Z
SUMMARY:Mass
DESCRIPTION:
URL:https://www.hummelfuneralhomes.com/obituaries/jean-reymann
LOCATION:St. Bernard Parish 44 University Ave.  Akron OH 44308
GEO:41.0785763;-81.5186511
END:VEVENT
END:VCALENDAR