BEGIN:VCALENDAR
VERSION:2.0
PRODID:-//Tukios.com/
BEGIN:VEVENT
UID:a2e74ee1-1e32-480f-a22f-0eafdea813c3@www.hummelfuneralhomes.com
DTSTAMP:20260422T213014Z
DTSTART:20260428T150000Z
DTEND:20260428T160000Z
SUMMARY:Mass
DESCRIPTION:
URL:https://www.hummelfuneralhomes.com/obituaries/dolores-emerson-bean
LOCATION:St. Paul Catholic Church 1580 Brown St.  Akron OH 44301
GEO:41.0383462;-81.5109657
END:VEVENT
END:VCALENDAR