BEGIN:VCALENDAR
VERSION:2.0
PRODID:-//Tukios.com/
BEGIN:VEVENT
UID:937aa287-98a0-4eac-9d4b-6591fb749642@www.hummelfuneralhomes.com
DTSTAMP:20260422T213315Z
DTSTART:20260428T133000Z
DTEND:20260428T143000Z
SUMMARY:Calling Hours
DESCRIPTION:
URL:https://www.hummelfuneralhomes.com/obituaries/dolores-emerson-bean
LOCATION:Hummel Funeral Home- Akron 500 E. Exchange St.  Akron OH 44304
GEO:41.0709254;-81.5057618
END:VEVENT
END:VCALENDAR